BEGIN:VCALENDAR
VERSION:2.0
PRODID:-//Plone.org//NONSGML plone.app.event//EN
X-WR-TIMEZONE:UTC
BEGIN:VEVENT
SUMMARY:10th World Conference on Earthquake Engineering in Milan
DTSTART;VALUE=DATE:20240630
DTEND;VALUE=DATE:20240706
DTSTAMP;VALUE=DATE-TIME:20260422T163110Z
UID:5d3b257336e24a71aa124572c434545c@141.84.11.11:9010
CONTACT:https://www.wcee2024.it/contributions/
CREATED;VALUE=DATE-TIME:20230412T114650Z
LAST-MODIFIED;VALUE=DATE-TIME:20230530T091257Z
LOCATION:Milan
URL:https://www.rotational-seismology.org/10th-world-conference-on-earthqu
 ake-engineering-in-milan
END:VEVENT
END:VCALENDAR
